BEGIN:VCALENDAR
VERSION:2.0
PRODID:-//S. W. Raine - ECPv6.15.20//NONSGML v1.0//EN
CALSCALE:GREGORIAN
METHOD:PUBLISH
X-ORIGINAL-URL:https://swraine.com
X-WR-CALDESC:Events for S. W. Raine
REFRESH-INTERVAL;VALUE=DURATION:PT1H
X-Robots-Tag:noindex
X-PUBLISHED-TTL:PT1H
BEGIN:VTIMEZONE
TZID:America/Detroit
BEGIN:DAYLIGHT
TZOFFSETFROM:-0500
TZOFFSETTO:-0400
TZNAME:EDT
DTSTART:20240310T070000
END:DAYLIGHT
BEGIN:STANDARD
TZOFFSETFROM:-0400
TZOFFSETTO:-0500
TZNAME:EST
DTSTART:20241103T060000
END:STANDARD
BEGIN:DAYLIGHT
TZOFFSETFROM:-0500
TZOFFSETTO:-0400
TZNAME:EDT
DTSTART:20250309T070000
END:DAYLIGHT
BEGIN:STANDARD
TZOFFSETFROM:-0400
TZOFFSETTO:-0500
TZNAME:EST
DTSTART:20251102T060000
END:STANDARD
BEGIN:DAYLIGHT
TZOFFSETFROM:-0500
TZOFFSETTO:-0400
TZNAME:EDT
DTSTART:20260308T070000
END:DAYLIGHT
BEGIN:STANDARD
TZOFFSETFROM:-0400
TZOFFSETTO:-0500
TZNAME:EST
DTSTART:20261101T060000
END:STANDARD
END:VTIMEZONE
BEGIN:VEVENT
DTSTART;TZID=America/Detroit:20251213T110000
DTEND;TZID=America/Detroit:20251213T153000
DTSTAMP:20260424T181606
CREATED:20250930T231834Z
LAST-MODIFIED:20250930T231834Z
UID:1742-1765623600-1765639800@swraine.com
SUMMARY:Sweetwaters Coffee & Tea – Novi
DESCRIPTION:
URL:https://swraine.com/event/sweetwaters-coffee-tea-novi-3/
LOCATION:Sweetwaters Coffee & Tea – Novi\, 43346 Grand River Ave\, Novi\, MI 48375\, Novi\, MI\, United States
END:VEVENT
BEGIN:VEVENT
DTSTART;TZID=America/Detroit:20251220T110000
DTEND;TZID=America/Detroit:20251220T153000
DTSTAMP:20260424T181606
CREATED:20250930T232031Z
LAST-MODIFIED:20250930T232031Z
UID:1744-1766228400-1766244600@swraine.com
SUMMARY:Sweetwaters Coffee & Tea - Canton
DESCRIPTION:
URL:https://swraine.com/event/sweetwaters-coffee-tea-canton/
LOCATION:Sweetwaters Coffee & Tea – Canton\, 302 N Canton Center Rd\, Canton\, MI\, 48187\, United States
END:VEVENT
END:VCALENDAR