BEGIN:VCALENDAR
VERSION:2.0
PRODID:-//S. W. Raine - ECPv6.15.20//NONSGML v1.0//EN
CALSCALE:GREGORIAN
METHOD:PUBLISH
X-WR-CALNAME:S. W. Raine
X-ORIGINAL-URL:https://swraine.com
X-WR-CALDESC:Events for S. W. Raine
REFRESH-INTERVAL;VALUE=DURATION:PT1H
X-Robots-Tag:noindex
X-PUBLISHED-TTL:PT1H
BEGIN:VTIMEZONE
TZID:America/Detroit
BEGIN:DAYLIGHT
TZOFFSETFROM:-0500
TZOFFSETTO:-0400
TZNAME:EDT
DTSTART:20240310T070000
END:DAYLIGHT
BEGIN:STANDARD
TZOFFSETFROM:-0400
TZOFFSETTO:-0500
TZNAME:EST
DTSTART:20241103T060000
END:STANDARD
BEGIN:DAYLIGHT
TZOFFSETFROM:-0500
TZOFFSETTO:-0400
TZNAME:EDT
DTSTART:20250309T070000
END:DAYLIGHT
BEGIN:STANDARD
TZOFFSETFROM:-0400
TZOFFSETTO:-0500
TZNAME:EST
DTSTART:20251102T060000
END:STANDARD
BEGIN:DAYLIGHT
TZOFFSETFROM:-0500
TZOFFSETTO:-0400
TZNAME:EDT
DTSTART:20260308T070000
END:DAYLIGHT
BEGIN:STANDARD
TZOFFSETFROM:-0400
TZOFFSETTO:-0500
TZNAME:EST
DTSTART:20261101T060000
END:STANDARD
END:VTIMEZONE
BEGIN:VEVENT
DTSTART;TZID=America/Detroit:20250912T170000
DTEND;TZID=America/Detroit:20250913T180000
DTSTAMP:20260424T224521
CREATED:20250219T001752Z
LAST-MODIFIED:20250219T001752Z
UID:1567-1757696400-1757786400@swraine.com
SUMMARY:Monroe Comic Con 2025
DESCRIPTION:
URL:https://swraine.com/event/monroe-comic-con-2025/
LOCATION:FMB Expo Center\, 3775 S Custer Rd\, Monroe\, MI\, 48161\, United States
END:VEVENT
BEGIN:VEVENT
DTSTART;TZID=America/Detroit:20250921T110000
DTEND;TZID=America/Detroit:20250921T150000
DTSTAMP:20260424T224521
CREATED:20250728T124715Z
LAST-MODIFIED:20250728T124715Z
UID:1700-1758452400-1758466800@swraine.com
SUMMARY:Artalicious Author Signing
DESCRIPTION:
URL:https://swraine.com/event/artalicious-author-signing/
LOCATION:Tropetastic Books and Gifts\, 112 W Maumee St.\, Adrian\, MI\, 49221\, United States
END:VEVENT
BEGIN:VEVENT
DTSTART;TZID=America/Detroit:20250927T110000
DTEND;TZID=America/Detroit:20250928T170000
DTSTAMP:20260424T224521
CREATED:20250219T000501Z
LAST-MODIFIED:20250219T000501Z
UID:1563-1758970800-1759078800@swraine.com
SUMMARY:FantastiCon Metro Detroit 2025
DESCRIPTION:
URL:https://swraine.com/event/fantasticon-metro-detroit-2025/
LOCATION:Oakland Expo Center\, 2212 Mall Street East\, Waterford Twp.\, MI\, 48328\, United States
END:VEVENT
END:VCALENDAR