BEGIN:VCALENDAR
VERSION:2.0
PRODID:-//S. W. Raine - ECPv6.15.20//NONSGML v1.0//EN
CALSCALE:GREGORIAN
METHOD:PUBLISH
X-WR-CALNAME:S. W. Raine
X-ORIGINAL-URL:https://swraine.com
X-WR-CALDESC:Events for S. W. Raine
REFRESH-INTERVAL;VALUE=DURATION:PT1H
X-Robots-Tag:noindex
X-PUBLISHED-TTL:PT1H
BEGIN:VTIMEZONE
TZID:America/Detroit
BEGIN:DAYLIGHT
TZOFFSETFROM:-0500
TZOFFSETTO:-0400
TZNAME:EDT
DTSTART:20240310T070000
END:DAYLIGHT
BEGIN:STANDARD
TZOFFSETFROM:-0400
TZOFFSETTO:-0500
TZNAME:EST
DTSTART:20241103T060000
END:STANDARD
BEGIN:DAYLIGHT
TZOFFSETFROM:-0500
TZOFFSETTO:-0400
TZNAME:EDT
DTSTART:20250309T070000
END:DAYLIGHT
BEGIN:STANDARD
TZOFFSETFROM:-0400
TZOFFSETTO:-0500
TZNAME:EST
DTSTART:20251102T060000
END:STANDARD
BEGIN:DAYLIGHT
TZOFFSETFROM:-0500
TZOFFSETTO:-0400
TZNAME:EDT
DTSTART:20260308T070000
END:DAYLIGHT
BEGIN:STANDARD
TZOFFSETFROM:-0400
TZOFFSETTO:-0500
TZNAME:EST
DTSTART:20261101T060000
END:STANDARD
END:VTIMEZONE
BEGIN:VEVENT
DTSTART;TZID=America/Detroit:20250802T110000
DTEND;TZID=America/Detroit:20250802T153000
DTSTAMP:20260425T062658
CREATED:20250709T011446Z
LAST-MODIFIED:20250709T011446Z
UID:1679-1754132400-1754148600@swraine.com
SUMMARY:Sweetwaters Coffee & Tea - Novi
DESCRIPTION:
URL:https://swraine.com/event/sweetwaters-coffee-tea-novi/
LOCATION:Sweetwaters Coffee & Tea – Novi\, 43346 Grand River Ave\, Novi\, MI 48375\, Novi\, MI\, United States
END:VEVENT
BEGIN:VEVENT
DTSTART;TZID=America/Detroit:20250801T170000
DTEND;TZID=America/Detroit:20250801T200000
DTSTAMP:20260425T062658
CREATED:20250709T005943Z
LAST-MODIFIED:20250709T005943Z
UID:1675-1754067600-1754078400@swraine.com
SUMMARY:Tropetastic First Friday Author Signing
DESCRIPTION:
URL:https://swraine.com/event/tropetastic-first-friday-author-signing/
LOCATION:Tropetastic Books and Gifts\, 112 W Maumee St.\, Adrian\, MI\, 49221\, United States
END:VEVENT
BEGIN:VEVENT
DTSTART;TZID=America/Detroit:20250726T100000
DTEND;TZID=America/Detroit:20250726T160000
DTSTAMP:20260425T062658
CREATED:20250603T210333Z
LAST-MODIFIED:20250603T210333Z
UID:1655-1753524000-1753545600@swraine.com
SUMMARY:Local Author Book Sale
DESCRIPTION:
URL:https://swraine.com/event/local-author-book-sale/
LOCATION:Sterling Heights Public Library\, 40255 Dodge Park Rd\, Sterling Heights\, MI\, 48313\, United States
END:VEVENT
BEGIN:VEVENT
DTSTART;TZID=America/Detroit:20250712T120000
DTEND;TZID=America/Detroit:20250712T180000
DTSTAMP:20260425T062658
CREATED:20250603T205516Z
LAST-MODIFIED:20250603T205516Z
UID:1653-1752321600-1752343200@swraine.com
SUMMARY:Plunder in the Port
DESCRIPTION:
URL:https://swraine.com/event/plunder-in-the-port/
LOCATION:Hear.Say Brewing\, 2350 W Liberty St\, Ann Arbor\, MI\, 48103\, United States
END:VEVENT
BEGIN:VEVENT
DTSTART;TZID=America/Detroit:20250614T150000
DTEND;TZID=America/Detroit:20250614T180000
DTSTAMP:20260425T062658
CREATED:20250603T195731Z
LAST-MODIFIED:20250603T195731Z
UID:1649-1749913200-1749924000@swraine.com
SUMMARY:Homegrown Words
DESCRIPTION:
URL:https://swraine.com/event/homegrown-words/
LOCATION:Brooks Books\, 1805 Ford Ave\, Wyandotte\, MI\, 48192\, United States
END:VEVENT
BEGIN:VEVENT
DTSTART;TZID=America/Detroit:20250607T100000
DTEND;TZID=America/Detroit:20250607T130000
DTSTAMP:20260425T062658
CREATED:20250506T212146Z
LAST-MODIFIED:20250506T212146Z
UID:1640-1749290400-1749301200@swraine.com
SUMMARY:Author's Alley
DESCRIPTION:
URL:https://swraine.com/event/authors-alley/
LOCATION:Hyne Alley\, Brighton\, MI\, United States
END:VEVENT
BEGIN:VEVENT
DTSTART;TZID=America/Detroit:20250524T120000
DTEND;TZID=America/Detroit:20250524T220000
DTSTAMP:20260425T062658
CREATED:20250218T225311Z
LAST-MODIFIED:20250227T191501Z
UID:1559-1748088000-1748124000@swraine.com
SUMMARY:Steampunk on the Bricks 2025
DESCRIPTION:
URL:https://swraine.com/event/steampunk-on-the-bricks-2025/
LOCATION:Art 634\, 634 N. Mechanic Street\, Jackson\, MI\, 49202\, United States
END:VEVENT
BEGIN:VEVENT
DTSTART;TZID=America/Detroit:20250517T110000
DTEND;TZID=America/Detroit:20250517T153000
DTSTAMP:20260425T062658
CREATED:20250218T224244Z
LAST-MODIFIED:20250218T224455Z
UID:1557-1747479600-1747495800@swraine.com
SUMMARY:Sweetwaters Coffee & Tea - Novi
DESCRIPTION:
URL:https://swraine.com/event/sweetwaters-coffee-tea-250517/
LOCATION:Sweetwaters Coffee & Tea – Novi\, 43346 Grand River Ave\, Novi\, MI 48375\, Novi\, MI\, United States
END:VEVENT
BEGIN:VEVENT
DTSTART;TZID=America/Detroit:20250405T110000
DTEND;TZID=America/Detroit:20250405T153000
DTSTAMP:20260425T062658
CREATED:20250218T223839Z
LAST-MODIFIED:20250218T224553Z
UID:1554-1743850800-1743867000@swraine.com
SUMMARY:Sweetwaters Coffee & Tea - Canton
DESCRIPTION:
URL:https://swraine.com/event/sweetwaters-coffee-tea-250405/
LOCATION:Sweetwaters Coffee & Tea – Canton\, 302 N Canton Center Rd\, Canton\, MI\, 48187\, United States
END:VEVENT
BEGIN:VEVENT
DTSTART;TZID=America/Detroit:20250329T110000
DTEND;TZID=America/Detroit:20250329T180000
DTSTAMP:20260425T062658
CREATED:20250227T230718Z
LAST-MODIFIED:20250227T230718Z
UID:1579-1743246000-1743271200@swraine.com
SUMMARY:Gears in Bloom 2025
DESCRIPTION:
URL:https://swraine.com/event/gears-in-bloom-2025/
LOCATION:Hear.Say Brewing\, 2350 W Liberty St\, Ann Arbor\, MI\, 48103\, United States
END:VEVENT
BEGIN:VEVENT
DTSTART;TZID=America/Detroit:20250301T110000
DTEND;TZID=America/Detroit:20250301T153000
DTSTAMP:20260425T062658
CREATED:20250218T222043Z
LAST-MODIFIED:20250218T224636Z
UID:1546-1740826800-1740843000@swraine.com
SUMMARY:Sweetwaters Coffee & Tea - Novi
DESCRIPTION:
URL:https://swraine.com/event/sweetwaters-coffee-tea-250301/
LOCATION:Sweetwaters Coffee & Tea – Novi\, 43346 Grand River Ave\, Novi\, MI 48375\, Novi\, MI\, United States
END:VEVENT
END:VCALENDAR