BEGIN:VCALENDAR
VERSION:2.0
PRODID:-//S. W. Raine - ECPv6.15.20//NONSGML v1.0//EN
CALSCALE:GREGORIAN
METHOD:PUBLISH
X-ORIGINAL-URL:https://swraine.com
X-WR-CALDESC:Events for S. W. Raine
REFRESH-INTERVAL;VALUE=DURATION:PT1H
X-Robots-Tag:noindex
X-PUBLISHED-TTL:PT1H
BEGIN:VTIMEZONE
TZID:America/Detroit
BEGIN:DAYLIGHT
TZOFFSETFROM:-0500
TZOFFSETTO:-0400
TZNAME:EDT
DTSTART:20240310T070000
END:DAYLIGHT
BEGIN:STANDARD
TZOFFSETFROM:-0400
TZOFFSETTO:-0500
TZNAME:EST
DTSTART:20241103T060000
END:STANDARD
BEGIN:DAYLIGHT
TZOFFSETFROM:-0500
TZOFFSETTO:-0400
TZNAME:EDT
DTSTART:20250309T070000
END:DAYLIGHT
BEGIN:STANDARD
TZOFFSETFROM:-0400
TZOFFSETTO:-0500
TZNAME:EST
DTSTART:20251102T060000
END:STANDARD
BEGIN:DAYLIGHT
TZOFFSETFROM:-0500
TZOFFSETTO:-0400
TZNAME:EDT
DTSTART:20260308T070000
END:DAYLIGHT
BEGIN:STANDARD
TZOFFSETFROM:-0400
TZOFFSETTO:-0500
TZNAME:EST
DTSTART:20261101T060000
END:STANDARD
BEGIN:DAYLIGHT
TZOFFSETFROM:-0500
TZOFFSETTO:-0400
TZNAME:EDT
DTSTART:20270314T070000
END:DAYLIGHT
BEGIN:STANDARD
TZOFFSETFROM:-0400
TZOFFSETTO:-0500
TZNAME:EST
DTSTART:20271107T060000
END:STANDARD
END:VTIMEZONE
BEGIN:VEVENT
DTSTART;TZID=America/Detroit:20250607T100000
DTEND;TZID=America/Detroit:20250607T130000
DTSTAMP:20260425T113721
CREATED:20250506T212146Z
LAST-MODIFIED:20250506T212146Z
UID:1640-1749290400-1749301200@swraine.com
SUMMARY:Author's Alley
DESCRIPTION:
URL:https://swraine.com/event/authors-alley/
LOCATION:Hyne Alley\, Brighton\, MI\, United States
END:VEVENT
BEGIN:VEVENT
DTSTART;TZID=America/Detroit:20250614T150000
DTEND;TZID=America/Detroit:20250614T180000
DTSTAMP:20260425T113721
CREATED:20250603T195731Z
LAST-MODIFIED:20250603T195731Z
UID:1649-1749913200-1749924000@swraine.com
SUMMARY:Homegrown Words
DESCRIPTION:
URL:https://swraine.com/event/homegrown-words/
LOCATION:Brooks Books\, 1805 Ford Ave\, Wyandotte\, MI\, 48192\, United States
END:VEVENT
BEGIN:VEVENT
DTSTART;TZID=America/Detroit:20250712T120000
DTEND;TZID=America/Detroit:20250712T180000
DTSTAMP:20260425T113721
CREATED:20250603T205516Z
LAST-MODIFIED:20250603T205516Z
UID:1653-1752321600-1752343200@swraine.com
SUMMARY:Plunder in the Port
DESCRIPTION:
URL:https://swraine.com/event/plunder-in-the-port/
LOCATION:Hear.Say Brewing\, 2350 W Liberty St\, Ann Arbor\, MI\, 48103\, United States
END:VEVENT
BEGIN:VEVENT
DTSTART;TZID=America/Detroit:20250726T100000
DTEND;TZID=America/Detroit:20250726T160000
DTSTAMP:20260425T113721
CREATED:20250603T210333Z
LAST-MODIFIED:20250603T210333Z
UID:1655-1753524000-1753545600@swraine.com
SUMMARY:Local Author Book Sale
DESCRIPTION:
URL:https://swraine.com/event/local-author-book-sale/
LOCATION:Sterling Heights Public Library\, 40255 Dodge Park Rd\, Sterling Heights\, MI\, 48313\, United States
END:VEVENT
BEGIN:VEVENT
DTSTART;TZID=America/Detroit:20250801T170000
DTEND;TZID=America/Detroit:20250801T200000
DTSTAMP:20260425T113721
CREATED:20250709T005943Z
LAST-MODIFIED:20250709T005943Z
UID:1675-1754067600-1754078400@swraine.com
SUMMARY:Tropetastic First Friday Author Signing
DESCRIPTION:
URL:https://swraine.com/event/tropetastic-first-friday-author-signing/
LOCATION:Tropetastic Books and Gifts\, 112 W Maumee St.\, Adrian\, MI\, 49221\, United States
END:VEVENT
BEGIN:VEVENT
DTSTART;TZID=America/Detroit:20250802T110000
DTEND;TZID=America/Detroit:20250802T153000
DTSTAMP:20260425T113721
CREATED:20250709T011446Z
LAST-MODIFIED:20250709T011446Z
UID:1679-1754132400-1754148600@swraine.com
SUMMARY:Sweetwaters Coffee & Tea - Novi
DESCRIPTION:
URL:https://swraine.com/event/sweetwaters-coffee-tea-novi/
LOCATION:Sweetwaters Coffee & Tea – Novi\, 43346 Grand River Ave\, Novi\, MI 48375\, Novi\, MI\, United States
END:VEVENT
BEGIN:VEVENT
DTSTART;TZID=America/Detroit:20250912T170000
DTEND;TZID=America/Detroit:20250913T180000
DTSTAMP:20260425T113721
CREATED:20250219T001752Z
LAST-MODIFIED:20250219T001752Z
UID:1567-1757696400-1757786400@swraine.com
SUMMARY:Monroe Comic Con 2025
DESCRIPTION:
URL:https://swraine.com/event/monroe-comic-con-2025/
LOCATION:FMB Expo Center\, 3775 S Custer Rd\, Monroe\, MI\, 48161\, United States
END:VEVENT
BEGIN:VEVENT
DTSTART;TZID=America/Detroit:20250921T110000
DTEND;TZID=America/Detroit:20250921T150000
DTSTAMP:20260425T113721
CREATED:20250728T124715Z
LAST-MODIFIED:20250728T124715Z
UID:1700-1758452400-1758466800@swraine.com
SUMMARY:Artalicious Author Signing
DESCRIPTION:
URL:https://swraine.com/event/artalicious-author-signing/
LOCATION:Tropetastic Books and Gifts\, 112 W Maumee St.\, Adrian\, MI\, 49221\, United States
END:VEVENT
BEGIN:VEVENT
DTSTART;TZID=America/Detroit:20250927T110000
DTEND;TZID=America/Detroit:20250928T170000
DTSTAMP:20260425T113721
CREATED:20250219T000501Z
LAST-MODIFIED:20250219T000501Z
UID:1563-1758970800-1759078800@swraine.com
SUMMARY:FantastiCon Metro Detroit 2025
DESCRIPTION:
URL:https://swraine.com/event/fantasticon-metro-detroit-2025/
LOCATION:Oakland Expo Center\, 2212 Mall Street East\, Waterford Twp.\, MI\, 48328\, United States
END:VEVENT
BEGIN:VEVENT
DTSTART;TZID=America/Detroit:20251004T110000
DTEND;TZID=America/Detroit:20251004T160000
DTSTAMP:20260425T113721
CREATED:20250930T230400Z
LAST-MODIFIED:20250930T230400Z
UID:1732-1759575600-1759593600@swraine.com
SUMMARY:Indie Author Feature: Chapter 2
DESCRIPTION:
URL:https://swraine.com/event/indie-author-feature-chapter-2/
LOCATION:Fenton Community & Cultural Center\, 150 S Leroy St\, Fenton\, MI\, 48430\, United States
END:VEVENT
BEGIN:VEVENT
DTSTART;TZID=America/Detroit:20251018T140000
DTEND;TZID=America/Detroit:20251018T200000
DTSTAMP:20260425T113721
CREATED:20250930T230941Z
LAST-MODIFIED:20250930T230941Z
UID:1736-1760796000-1760817600@swraine.com
SUMMARY:Witchy Woods Vendor Faire
DESCRIPTION:
URL:https://swraine.com/event/witchy-woods-vendor-faire/
LOCATION:Gree Witch Gadens\, 8930 S Custer Rd\, Monroe\, MI\, 48161\, United States
END:VEVENT
BEGIN:VEVENT
DTSTART;TZID=America/Detroit:20251025T110000
DTEND;TZID=America/Detroit:20251025T153000
DTSTAMP:20260425T113721
CREATED:20250805T212925Z
LAST-MODIFIED:20250805T212925Z
UID:1703-1761390000-1761406200@swraine.com
SUMMARY:Sweetwaters Coffee & Tea - Novi
DESCRIPTION:
URL:https://swraine.com/event/sweetwaters-coffee-tea-novi-2/
LOCATION:Sweetwaters Coffee & Tea – Novi\, 43346 Grand River Ave\, Novi\, MI 48375\, Novi\, MI\, United States
END:VEVENT
BEGIN:VEVENT
DTSTART;TZID=America/Detroit:20251122T110000
DTEND;TZID=America/Detroit:20251122T170000
DTSTAMP:20260425T113721
CREATED:20250506T211621Z
LAST-MODIFIED:20250506T211621Z
UID:1637-1763809200-1763830800@swraine.com
SUMMARY:Blue Water International Comic-Con
DESCRIPTION:
URL:https://swraine.com/event/blue-water-international-comic-con/
LOCATION:Bluewater Convention Center\, 800 Harker Street\, Port Huron\, MI\, 48060\, United States
END:VEVENT
BEGIN:VEVENT
DTSTART;TZID=America/Detroit:20251128T120000
DTEND;TZID=America/Detroit:20251128T180000
DTSTAMP:20260425T113721
CREATED:20250930T231338Z
LAST-MODIFIED:20250930T231338Z
UID:1740-1764331200-1764352800@swraine.com
SUMMARY:Assassins Black Market
DESCRIPTION:
URL:https://swraine.com/event/assassins-black-market/
LOCATION:Hear.Say Brewing\, 2350 W Liberty St\, Ann Arbor\, MI\, 48103\, United States
END:VEVENT
BEGIN:VEVENT
DTSTART;TZID=America/Detroit:20251213T110000
DTEND;TZID=America/Detroit:20251213T153000
DTSTAMP:20260425T113721
CREATED:20250930T231834Z
LAST-MODIFIED:20250930T231834Z
UID:1742-1765623600-1765639800@swraine.com
SUMMARY:Sweetwaters Coffee & Tea – Novi
DESCRIPTION:
URL:https://swraine.com/event/sweetwaters-coffee-tea-novi-3/
LOCATION:Sweetwaters Coffee & Tea – Novi\, 43346 Grand River Ave\, Novi\, MI 48375\, Novi\, MI\, United States
END:VEVENT
BEGIN:VEVENT
DTSTART;TZID=America/Detroit:20251220T110000
DTEND;TZID=America/Detroit:20251220T153000
DTSTAMP:20260425T113721
CREATED:20250930T232031Z
LAST-MODIFIED:20250930T232031Z
UID:1744-1766228400-1766244600@swraine.com
SUMMARY:Sweetwaters Coffee & Tea - Canton
DESCRIPTION:
URL:https://swraine.com/event/sweetwaters-coffee-tea-canton/
LOCATION:Sweetwaters Coffee & Tea – Canton\, 302 N Canton Center Rd\, Canton\, MI\, 48187\, United States
END:VEVENT
BEGIN:VEVENT
DTSTART;TZID=America/Detroit:20260124T110000
DTEND;TZID=America/Detroit:20260124T153000
DTSTAMP:20260425T113721
CREATED:20260106T234233Z
LAST-MODIFIED:20260107T000852Z
UID:1819-1769252400-1769268600@swraine.com
SUMMARY:Meet the Authors – Novi
DESCRIPTION:
URL:https://swraine.com/event/meet-the-authors-novi/
LOCATION:Sweetwaters Coffee & Tea – Novi\, 43346 Grand River Ave\, Novi\, MI 48375\, Novi\, MI\, United States
END:VEVENT
BEGIN:VEVENT
DTSTART;TZID=America/Detroit:20260201T110000
DTEND;TZID=America/Detroit:20260201T153000
DTSTAMP:20260425T113721
CREATED:20260106T234502Z
LAST-MODIFIED:20260107T001204Z
UID:1821-1769943600-1769959800@swraine.com
SUMMARY:Meet the Authors – Canton
DESCRIPTION:
URL:https://swraine.com/event/meet-the-authors-canton/
LOCATION:Sweetwaters Coffee & Tea – Canton\, 302 N Canton Center Rd\, Canton\, MI\, 48187\, United States
END:VEVENT
BEGIN:VEVENT
DTSTART;TZID=America/Detroit:20260307T110000
DTEND;TZID=America/Detroit:20260307T153000
DTSTAMP:20260425T113721
CREATED:20260106T234749Z
LAST-MODIFIED:20260107T001000Z
UID:1823-1772881200-1772897400@swraine.com
SUMMARY:Meet the Authors – Novi
DESCRIPTION:
URL:https://swraine.com/event/meet-the-authors-novi-2/
LOCATION:Sweetwaters Coffee & Tea – Novi\, 43346 Grand River Ave\, Novi\, MI 48375\, Novi\, MI\, United States
END:VEVENT
BEGIN:VEVENT
DTSTART;TZID=America/Detroit:20260314T110000
DTEND;TZID=America/Detroit:20260315T170000
DTSTAMP:20260425T113721
CREATED:20260106T235345Z
LAST-MODIFIED:20260106T235345Z
UID:1825-1773486000-1773594000@swraine.com
SUMMARY:FantastiCon Toledo
DESCRIPTION:
URL:https://swraine.com/event/fantasticon-toledo/
LOCATION:Glass City Convention Center\, 401 Jefferson Ave.\, Toledo\, OH\, 43604\, United States
END:VEVENT
BEGIN:VEVENT
DTSTART;TZID=America/Detroit:20260404T110000
DTEND;TZID=America/Detroit:20260404T153000
DTSTAMP:20260425T113721
CREATED:20260106T235601Z
LAST-MODIFIED:20260107T001252Z
UID:1828-1775300400-1775316600@swraine.com
SUMMARY:Meet the Authors – Canton
DESCRIPTION:
URL:https://swraine.com/event/meet-the-authors-canton-2/
LOCATION:Sweetwaters Coffee & Tea – Canton\, 302 N Canton Center Rd\, Canton\, MI\, 48187\, United States
END:VEVENT
BEGIN:VEVENT
DTSTART;TZID=America/Detroit:20260501T170000
DTEND;TZID=America/Detroit:20260501T200000
DTSTAMP:20260425T113721
CREATED:20260425T012340Z
LAST-MODIFIED:20260425T012340Z
UID:1915-1777654800-1777665600@swraine.com
SUMMARY:First Friday Author Signing
DESCRIPTION:
URL:https://swraine.com/event/first-friday-author-signing/
LOCATION:Tropetastic Books and Gifts\, 112 W Maumee St.\, Adrian\, MI\, 49221\, United States
END:VEVENT
BEGIN:VEVENT
DTSTART;TZID=America/Detroit:20260502T110000
DTEND;TZID=America/Detroit:20260502T153000
DTSTAMP:20260425T113721
CREATED:20260106T235717Z
LAST-MODIFIED:20260107T001049Z
UID:1830-1777719600-1777735800@swraine.com
SUMMARY:Meet the Authors – Novi
DESCRIPTION:
URL:https://swraine.com/event/meet-the-authors-novi-3/
LOCATION:Sweetwaters Coffee & Tea – Novi\, 43346 Grand River Ave\, Novi\, MI 48375\, Novi\, MI\, United States
END:VEVENT
BEGIN:VEVENT
DTSTART;TZID=America/Detroit:20260516T110000
DTEND;TZID=America/Detroit:20260516T160000
DTSTAMP:20260425T113721
CREATED:20260107T000421Z
LAST-MODIFIED:20260107T000421Z
UID:1832-1778929200-1778947200@swraine.com
SUMMARY:Wander & Tale — A Book Fest
DESCRIPTION:
URL:https://swraine.com/event/wander-tale-a-book-fest/
LOCATION:Knights of Columbus\, 202 W Front St.\, Monroe\, 48161\, United States
END:VEVENT
BEGIN:VEVENT
DTSTART;TZID=America/Detroit:20260523T120000
DTEND;TZID=America/Detroit:20260524T180000
DTSTAMP:20260425T113721
CREATED:20260425T012732Z
LAST-MODIFIED:20260425T012732Z
UID:1917-1779537600-1779645600@swraine.com
SUMMARY:Gears in Bloom
DESCRIPTION:
URL:https://swraine.com/event/gears-in-bloom/
LOCATION:Hear.Say Brewing\, 2350 W Liberty St\, Ann Arbor\, MI\, 48103\, United States
END:VEVENT
BEGIN:VEVENT
DTSTART;TZID=America/Detroit:20260606T110000
DTEND;TZID=America/Detroit:20260606T153000
DTSTAMP:20260425T113721
CREATED:20260107T000607Z
LAST-MODIFIED:20260107T001359Z
UID:1836-1780743600-1780759800@swraine.com
SUMMARY:Meet the Authors – Canton
DESCRIPTION:
URL:https://swraine.com/event/meet-the-authors-canton-3/
LOCATION:Sweetwaters Coffee & Tea – Canton\, 302 N Canton Center Rd\, Canton\, MI\, 48187\, United States
END:VEVENT
BEGIN:VEVENT
DTSTART;TZID=America/Detroit:20260613T090000
DTEND;TZID=America/Detroit:20260613T140000
DTSTAMP:20260425T113721
CREATED:20260425T013936Z
LAST-MODIFIED:20260425T013936Z
UID:1919-1781341200-1781359200@swraine.com
SUMMARY:JFK Ladies Aux. Farmer's Market
DESCRIPTION:
URL:https://swraine.com/event/jfk-ladies-aux-farmers-market/
LOCATION:John F Kennedy Knights of Columbus\, 33320 Kelly Rd\, Clinton Twp\, MI\, 48035\, United States
END:VEVENT
BEGIN:VEVENT
DTSTART;TZID=America/Detroit:20260725T140000
DTEND;TZID=America/Detroit:20260725T200000
DTSTAMP:20260425T113721
CREATED:20260425T022505Z
LAST-MODIFIED:20260425T022505Z
UID:1923-1784988000-1785009600@swraine.com
SUMMARY:Beach Party Market
DESCRIPTION:
URL:https://swraine.com/event/beach-party-market/
LOCATION:St. Julian Winery & Distillery Tasting Room\, 700 Freedom Ct.\, Dundee\, MI\, 48131\, United States
END:VEVENT
END:VCALENDAR