BEGIN:VCALENDAR
VERSION:2.0
PRODID:-//S. W. Raine - ECPv6.15.20//NONSGML v1.0//EN
CALSCALE:GREGORIAN
METHOD:PUBLISH
X-ORIGINAL-URL:https://swraine.com
X-WR-CALDESC:Events for S. W. Raine
REFRESH-INTERVAL;VALUE=DURATION:PT1H
X-Robots-Tag:noindex
X-PUBLISHED-TTL:PT1H
BEGIN:VTIMEZONE
TZID:America/Detroit
BEGIN:DAYLIGHT
TZOFFSETFROM:-0500
TZOFFSETTO:-0400
TZNAME:EDT
DTSTART:20240310T070000
END:DAYLIGHT
BEGIN:STANDARD
TZOFFSETFROM:-0400
TZOFFSETTO:-0500
TZNAME:EST
DTSTART:20241103T060000
END:STANDARD
BEGIN:DAYLIGHT
TZOFFSETFROM:-0500
TZOFFSETTO:-0400
TZNAME:EDT
DTSTART:20250309T070000
END:DAYLIGHT
BEGIN:STANDARD
TZOFFSETFROM:-0400
TZOFFSETTO:-0500
TZNAME:EST
DTSTART:20251102T060000
END:STANDARD
BEGIN:DAYLIGHT
TZOFFSETFROM:-0500
TZOFFSETTO:-0400
TZNAME:EDT
DTSTART:20260308T070000
END:DAYLIGHT
BEGIN:STANDARD
TZOFFSETFROM:-0400
TZOFFSETTO:-0500
TZNAME:EST
DTSTART:20261101T060000
END:STANDARD
END:VTIMEZONE
BEGIN:VEVENT
DTSTART;TZID=America/Detroit:20250329T110000
DTEND;TZID=America/Detroit:20250329T180000
DTSTAMP:20260425T100847
CREATED:20250227T230718Z
LAST-MODIFIED:20250227T230718Z
UID:1579-1743246000-1743271200@swraine.com
SUMMARY:Gears in Bloom 2025
DESCRIPTION:
URL:https://swraine.com/event/gears-in-bloom-2025/
LOCATION:Hear.Say Brewing\, 2350 W Liberty St\, Ann Arbor\, MI\, 48103\, United States
END:VEVENT
END:VCALENDAR